BEGIN:VCALENDAR
VERSION:2.0
PRODID:-//LifeSavers, Inc. - ECPv5.3.1.1//NONSGML v1.0//EN
CALSCALE:GREGORIAN
METHOD:PUBLISH
X-WR-CALNAME:LifeSavers, Inc.
X-ORIGINAL-URL:https://www.lifesaversinc.com
X-WR-CALDESC:Events for LifeSavers, Inc.
BEGIN:VTIMEZONE
TZID:America/New_York
BEGIN:DAYLIGHT
TZOFFSETFROM:-0500
TZOFFSETTO:-0400
TZNAME:EDT
DTSTART:20210314T070000
END:DAYLIGHT
BEGIN:STANDARD
TZOFFSETFROM:-0400
TZOFFSETTO:-0500
TZNAME:EST
DTSTART:20211107T060000
END:STANDARD
END:VTIMEZONE
BEGIN:VEVENT
DTSTART;TZID=America/New_York:20210107T080000
DTEND;TZID=America/New_York:20210107T113000
DTSTAMP:20260422T232041
CREATED:20201202T140223Z
LAST-MODIFIED:20201202T140710Z
UID:26888-1610006400-1610019000@www.lifesaversinc.com
SUMMARY:8am- AHA- BLS Provider / 263050
DESCRIPTION:The AHA’s BLS course trains participants to promptly recognize several life-threatening emergencies\, give high-quality chest compressions\, deliver appropriate ventilations and provide early use of an AED. Reflects science and education from the 2020 American Heart Association Guidelines Update for CPR and Emergency Cardiovascular Care (ECC). \nThe AHA’s BLS Course is designed for healthcare professionals and other personnel who need to know how to perform CPR and other basic cardiovascular life support skills in a wide variety of in-facility and prehospital settings. \nThe AHA BLS Provider Course will cover \n>High-quality CPR for adults\, children\, and infants\n>The AHA Chain of Survival\, specifically the BLS components\n>Important early use of an AED\n>Effective ventilations using a barrier device\n>Importance of teams in multirescuer resuscitation and performance as an effective team member during multirescuer CPR\n>Relief of foreign-body airway obstruction (choking) for adults and infants \nUpon successful completion\, participants will receive a 2-year BLS Provider Course Completion eCard\nCourse Length- Approximately 4 hours \n 
URL:https://www.lifesaversinc.com/event/aha-bls-provider-2020-guidelines-263050/
LOCATION:LifeSavers\, Inc\, 39 Plymouth St\, Fairfield\, NJ\, 07004\, United States
END:VEVENT
END:VCALENDAR