BEGIN:VCALENDAR
VERSION:2.0
PRODID:-//LifeSavers, Inc. - ECPv5.3.1.1//NONSGML v1.0//EN
CALSCALE:GREGORIAN
METHOD:PUBLISH
X-WR-CALNAME:LifeSavers, Inc.
X-ORIGINAL-URL:https://www.lifesaversinc.com
X-WR-CALDESC:Events for LifeSavers, Inc.
BEGIN:VTIMEZONE
TZID:America/New_York
BEGIN:DAYLIGHT
TZOFFSETFROM:-0500
TZOFFSETTO:-0400
TZNAME:EDT
DTSTART:20160313T070000
END:DAYLIGHT
BEGIN:STANDARD
TZOFFSETFROM:-0400
TZOFFSETTO:-0500
TZNAME:EST
DTSTART:20161106T060000
END:STANDARD
END:VTIMEZONE
BEGIN:VEVENT
DTSTART;TZID=America/New_York:20160309T183000
DTEND;TZID=America/New_York:20160309T213000
DTSTAMP:20260419T080531
CREATED:20160104T031824Z
LAST-MODIFIED:20160308T152200Z
UID:3773-1457548200-1457559000@www.lifesaversinc.com
SUMMARY:Heartsaver First Aid / 201439
DESCRIPTION:This Heartsaver First Aid course teaches rescuers to effectively recognize and treat adult emergencies in the critical first minutesuntil professional help arrives. Topics covered in the Heartsaver First Aid course are; General Principals\, Medical Emergencies\, Injury Emergencies\, and Environmental Emergencies. \n-TWO YEAR CERTIFICATION \nCourse Time: 3-4 Hours
URL:https://www.lifesaversinc.com/event/heartsaver-first-aid-201439/
LOCATION:LifeSavers\, Inc\, 39 Plymouth St\, Fairfield\, NJ\, 07004\, United States
END:VEVENT
END:VCALENDAR