BEGIN:VCALENDAR
VERSION:2.0
PRODID:-//LifeSavers, Inc. - ECPv5.3.1.1//NONSGML v1.0//EN
CALSCALE:GREGORIAN
METHOD:PUBLISH
X-WR-CALNAME:LifeSavers, Inc.
X-ORIGINAL-URL:https://www.lifesaversinc.com
X-WR-CALDESC:Events for LifeSavers, Inc.
BEGIN:VTIMEZONE
TZID:America/New_York
BEGIN:DAYLIGHT
TZOFFSETFROM:-0500
TZOFFSETTO:-0400
TZNAME:EDT
DTSTART:20160313T070000
END:DAYLIGHT
BEGIN:STANDARD
TZOFFSETFROM:-0400
TZOFFSETTO:-0500
TZNAME:EST
DTSTART:20161106T060000
END:STANDARD
END:VTIMEZONE
BEGIN:VEVENT
DTSTART;TZID=America/New_York:20160421T183000
DTEND;TZID=America/New_York:20160421T213000
DTSTAMP:20260422T050441
CREATED:20160110T040113Z
LAST-MODIFIED:20160110T040113Z
UID:4131-1461263400-1461274200@www.lifesaversinc.com
SUMMARY:Rutgers S.A.F.E.T.Y. Clinic / 201575
DESCRIPTION:On May 12\, 1986\, New Jersey became the first state in the nation to pass legislation which protects volunteer athletic coaches\, managers\, and officials from lawsuits. Commonly referred to as the “Little League Law” (2A:62A-6 et. seq.)\, this legislation extends partial civil immunity to volunteers who have attended a “safety orientation and training skills program.
URL:https://www.lifesaversinc.com/event/rutgers-s-a-f-e-t-y-clinic-201575/
LOCATION:LifeSavers\, Inc\, 39 Plymouth St\, Fairfield\, NJ\, 07004\, United States
END:VEVENT
END:VCALENDAR