BEGIN:VCALENDAR
VERSION:2.0
PRODID:-//LifeSavers, Inc. - ECPv5.3.1.1//NONSGML v1.0//EN
CALSCALE:GREGORIAN
METHOD:PUBLISH
X-WR-CALNAME:LifeSavers, Inc.
X-ORIGINAL-URL:https://www.lifesaversinc.com
X-WR-CALDESC:Events for LifeSavers, Inc.
BEGIN:VTIMEZONE
TZID:America/New_York
BEGIN:DAYLIGHT
TZOFFSETFROM:-0500
TZOFFSETTO:-0400
TZNAME:EDT
DTSTART:20190310T070000
END:DAYLIGHT
BEGIN:STANDARD
TZOFFSETFROM:-0400
TZOFFSETTO:-0500
TZNAME:EST
DTSTART:20191103T060000
END:STANDARD
END:VTIMEZONE
BEGIN:VEVENT
DTSTART;TZID=America/New_York:20190305T190000
DTEND;TZID=America/New_York:20190305T220000
DTSTAMP:20260424T152731
CREATED:20190209T142948Z
LAST-MODIFIED:20190209T143617Z
UID:18265-1551812400-1551823200@www.lifesaversinc.com
SUMMARY:Rutgers S.A.F.E.T.Y. Clinic / 236979
DESCRIPTION:On May 12\, 1986\, New Jersey became the first state in the nation to pass legislation which protects volunteer athletic coaches\, managers\, and officials from lawsuits. Commonly referred to as the “Little League Law” (2A:62A-6 et. seq.)\, this legislation extends partial civil immunity to volunteers who have attended a “safety orientation and training skills program.
URL:https://www.lifesaversinc.com/event/rutgers-s-a-f-e-t-y-clinic-236979/
LOCATION:Washington Twp Baseball & Softball      (Town Hall 1st Floor)\, 350 Hudson St\, Washington Township\, NJ\, 07676\, United States
END:VEVENT
END:VCALENDAR